BEGIN:VCALENDAR
VERSION:2.0
PRODID:Smith Property Agents Open for Inspection - Launching Sat 11.30am -
 Wyoming Winner - Rare 1151sqm Site
BEGIN:VTIMEZONE
TZID:Australia/Melbourne
BEGIN:STANDARD
DTSTART:20210227T113000
TZOFFSETTO:+1100
TZNAME:GMT+11
END:STANDARD
END:VTIMEZONE
BEGIN:VEVENT
UID:60397d5d35fcf
DTSTART;TZID=Australia/Melbourne:20210227T113000
SEQUENCE:0
TRANSP:OPAQUE
DTEND;TZID=Australia/Melbourne:20210227T120000
LOCATION:14 Calantha Drive Wyoming NSW
SUMMARY:Smith Property Agents Open for Inspection - 14 Calantha Drive
 Wyoming NSW
CLASS:PUBLIC
DESCRIPTION:Open for Inspection: 14 Calantha Drive Wyoming NSW Saturday
 27th Feb 11:30am - 12:00pm Click the link for full listing information:
 https://www.smithproperties.com.au/sale/nsw/central-coast-region/wyoming/residential/house/6325308
DTSTAMP:20210226T225941
END:VEVENT
END:VCALENDAR