BEGIN:VCALENDAR
VERSION:2.0
PRODID:Smith Property Agents Open for Inspection - Launching Sat 1.30pm -
 Entry Level into the Market
BEGIN:VTIMEZONE
TZID:Australia/Melbourne
BEGIN:STANDARD
DTSTART:20210227T133000
TZOFFSETTO:+1100
TZNAME:GMT+11
END:STANDARD
END:VTIMEZONE
BEGIN:VEVENT
UID:60397d60c2352
DTSTART;TZID=Australia/Melbourne:20210227T133000
SEQUENCE:0
TRANSP:OPAQUE
DTEND;TZID=Australia/Melbourne:20210227T140000
LOCATION:2 Jindalee Avenue Point Clare NSW
SUMMARY:Smith Property Agents Open for Inspection - 2 Jindalee Avenue
 Point Clare NSW
CLASS:PUBLIC
DESCRIPTION:Open for Inspection: 2 Jindalee Avenue Point Clare NSW
 Saturday 27th Feb 13:30pm - 14:00pm Click the link for full listing
 information:
 https://www.smithproperties.com.au/sale/nsw/central-coast-region/point-clare/residential/house/6327867
DTSTAMP:20210226T225944
END:VEVENT
END:VCALENDAR