BEGIN:VCALENDAR
VERSION:2.0
PRODID:Smith Property Agents Open for Inspection - View Sat @ 10am -
 Exquisite in East Gosford
BEGIN:VTIMEZONE
TZID:Australia/Melbourne
BEGIN:STANDARD
DTSTART:20210227T100000
TZOFFSETTO:+1100
TZNAME:GMT+11
END:STANDARD
END:VTIMEZONE
BEGIN:VEVENT
UID:60397d568c753
DTSTART;TZID=Australia/Melbourne:20210227T100000
SEQUENCE:0
TRANSP:OPAQUE
DTEND;TZID=Australia/Melbourne:20210227T103000
LOCATION:10/1-5 George Street East Gosford NSW
SUMMARY:Smith Property Agents Open for Inspection - 10/1-5 George Street
 East Gosford NSW
CLASS:PUBLIC
DESCRIPTION:Open for Inspection: 10/1-5 George Street East Gosford NSW
 Saturday 27th Feb 10:00am - 10:30am Click the link for full listing
 information:
 https://www.smithproperties.com.au/sale/nsw/central-coast-region/east-gosford/residential/townhouse/6163724
DTSTAMP:20210226T225934
END:VEVENT
END:VCALENDAR