BEGIN:VCALENDAR
VERSION:2.0
PRODID:Smith Property Agents Open for Inspection - Neat and Tidy Two
 Bedroom Unit
BEGIN:VTIMEZONE
TZID:Australia/Melbourne
BEGIN:STANDARD
DTSTART:20210227T150000
TZOFFSETTO:+1100
TZNAME:GMT+11
END:STANDARD
END:VTIMEZONE
BEGIN:VEVENT
UID:60397d6d64394
DTSTART;TZID=Australia/Melbourne:20210227T150000
SEQUENCE:0
TRANSP:OPAQUE
DTEND;TZID=Australia/Melbourne:20210227T151500
LOCATION:3/2 Duke Street Point Frederick NSW
SUMMARY:Smith Property Agents Open for Inspection - 3/2 Duke Street Point
 Frederick NSW
CLASS:PUBLIC
DESCRIPTION:Open for Inspection: 3/2 Duke Street Point Frederick NSW
 Saturday 27th Feb 15:00pm - 15:15pm Click the link for full listing
 information:
 https://www.smithproperties.com.au/lease/nsw/central-coast-region/point-frederick/residential/unit/6320529
DTSTAMP:20210226T225957
END:VEVENT
END:VCALENDAR