BEGIN:VCALENDAR
VERSION:2.0
PRODID:Smith Property Agents Open for Inspection - Low Maintenance Living
BEGIN:VTIMEZONE
TZID:Australia/Melbourne
BEGIN:STANDARD
DTSTART:20210227T143000
TZOFFSETTO:+1100
TZNAME:GMT+11
END:STANDARD
END:VTIMEZONE
BEGIN:VEVENT
UID:60397d6a46f1f
DTSTART;TZID=Australia/Melbourne:20210227T143000
SEQUENCE:0
TRANSP:OPAQUE
DTEND;TZID=Australia/Melbourne:20210227T144500
LOCATION:14/25-27 Masons Parade Point Frederick NSW
SUMMARY:Smith Property Agents Open for Inspection - 14/25-27 Masons Parade
 Point Frederick NSW
CLASS:PUBLIC
DESCRIPTION:Open for Inspection: 14/25-27 Masons Parade Point Frederick
 NSW Saturday 27th Feb 14:30pm - 14:45pm Click the link for full listing
 information:
 https://www.smithproperties.com.au/lease/nsw/central-coast-region/point-frederick/residential/unit/6287495
DTSTAMP:20210226T225954
END:VEVENT
END:VCALENDAR