BEGIN:VCALENDAR
VERSION:2.0
PRODID:Smith Property Agents Open for Inspection - Modern Two Bedroom Unit
 with Spacious Courtyard
BEGIN:VTIMEZONE
TZID:Australia/Melbourne
BEGIN:STANDARD
DTSTART:20210227T090000
TZOFFSETTO:+1100
TZNAME:GMT+11
END:STANDARD
END:VTIMEZONE
BEGIN:VEVENT
UID:60397d53504eb
DTSTART;TZID=Australia/Melbourne:20210227T090000
SEQUENCE:0
TRANSP:OPAQUE
DTEND;TZID=Australia/Melbourne:20210227T091500
LOCATION:6/212-220 Gertrude Street North Gosford NSW
SUMMARY:Smith Property Agents Open for Inspection - 6/212-220 Gertrude
 Street North Gosford NSW
CLASS:PUBLIC
DESCRIPTION:Open for Inspection: 6/212-220 Gertrude Street North Gosford
 NSW Saturday 27th Feb 09:00am - 09:15am Click the link for full listing
 information:
 https://www.smithproperties.com.au/lease/nsw/central-coast-region/north-gosford/residential/unit/6289198
DTSTAMP:20210226T225931
END:VEVENT
END:VCALENDAR