BEGIN:VCALENDAR
VERSION:2.0
PRODID:Smith Property Agents Open for Inspection - Inner City Living
BEGIN:VTIMEZONE
TZID:Australia/Melbourne
BEGIN:STANDARD
DTSTART:20210227T103000
TZOFFSETTO:+1100
TZNAME:GMT+11
END:STANDARD
END:VTIMEZONE
BEGIN:VEVENT
UID:60397d599f94c
DTSTART;TZID=Australia/Melbourne:20210227T103000
SEQUENCE:0
TRANSP:OPAQUE
DTEND;TZID=Australia/Melbourne:20210227T104500
LOCATION:5/1 Mann Street Gosford NSW
SUMMARY:Smith Property Agents Open for Inspection - 5/1 Mann Street
 Gosford NSW
CLASS:PUBLIC
DESCRIPTION:Open for Inspection: 5/1 Mann Street Gosford NSW Saturday 27th
 Feb 10:30am - 10:45am Click the link for full listing information:
 https://www.smithproperties.com.au/lease/nsw/central-coast-region/gosford/residential/unit/6320181
DTSTAMP:20210226T225937
END:VEVENT
END:VCALENDAR